Package: msqrob2 Version: 1.15.0 Command: rm -rf msqrob2.buildbin-libdir && mkdir msqrob2.buildbin-libdir && /Users/biocbuild/BBS/utils/build-universal.sh msqrob2_1.15.0.tar.gz /Library/Frameworks/R.framework/Resources/bin/R msqrob2.buildbin-libdir StartedAt: 2025-02-03 22:58:19 -0500 (Mon, 03 Feb 2025) EndedAt: 2025-02-03 22:58:32 -0500 (Mon, 03 Feb 2025) EllapsedTime: 13.2 seconds RetCode: 0 Status: OK PackageFile: msqrob2_1.15.0.tgz PackageFileSize: 2.667 MiB