Package: msqrob2 Version: 1.15.0 Command: /Library/Frameworks/R.framework/Resources/bin/R CMD build --keep-empty-dirs --no-resave-data msqrob2 StartedAt: 2025-02-03 17:39:54 -0500 (Mon, 03 Feb 2025) EndedAt: 2025-02-03 17:40:38 -0500 (Mon, 03 Feb 2025) EllapsedTime: 43.5 seconds RetCode: 0 Status: OK PackageFile: msqrob2_1.15.0.tar.gz PackageFileSize: 2.342 MiB