Package: msqrob2 Version: 1.15.0 Command: /Library/Frameworks/R.framework/Resources/bin/R CMD check --install=check:msqrob2.install-out.txt --library=/Library/Frameworks/R.framework/Resources/library --no-vignettes --timings msqrob2_1.15.0.tar.gz StartedAt: 2025-02-05 20:25:20 -0500 (Wed, 05 Feb 2025) EndedAt: 2025-02-05 20:26:58 -0500 (Wed, 05 Feb 2025) EllapsedTime: 98.2 seconds RetCode: 0 Status: OK CheckDir: msqrob2.Rcheck Warnings: 0