Package: msqrob2 Version: 1.15.0 Command: /Library/Frameworks/R.framework/Resources/bin/R CMD INSTALL msqrob2 StartedAt: 2025-02-09 15:16:18 -0500 (Sun, 09 Feb 2025) EndedAt: 2025-02-09 15:16:30 -0500 (Sun, 09 Feb 2025) EllapsedTime: 12.4 seconds RetCode: 0 Status: OK