Package: msqrob2 Version: 1.15.0 Command: /home/biocbuild/R/R/bin/R CMD build --keep-empty-dirs --no-resave-data msqrob2 StartedAt: 2025-01-29 00:41:08 -0000 (Wed, 29 Jan 2025) EndedAt: 2025-01-29 00:43:52 -0000 (Wed, 29 Jan 2025) EllapsedTime: 164.1 seconds RetCode: 0 Status: OK PackageFile: msqrob2_1.15.0.tar.gz PackageFileSize: 1.372 MiB