Package: msqrob2 Version: 1.15.0 Command: /home/biocbuild/R/R/bin/R CMD check --install=check:msqrob2.install-out.txt --library=/home/biocbuild/R/R/site-library --no-vignettes --timings msqrob2_1.15.0.tar.gz StartedAt: 2025-01-28 12:57:14 -0000 (Tue, 28 Jan 2025) EndedAt: 2025-01-28 13:03:31 -0000 (Tue, 28 Jan 2025) EllapsedTime: 376.4 seconds RetCode: 0 Status: OK CheckDir: msqrob2.Rcheck Warnings: 0