Package: msqrob2 Version: 1.15.0 Command: /home/biocbuild/R/R/bin/R CMD INSTALL msqrob2 StartedAt: 2025-01-29 20:08:35 -0000 (Wed, 29 Jan 2025) EndedAt: 2025-01-29 20:09:17 -0000 (Wed, 29 Jan 2025) EllapsedTime: 41.7 seconds RetCode: 0 Status: OK