Package: msqrob2 Version: 1.15.0 Command: /Library/Frameworks/R.framework/Resources/bin/R CMD build --keep-empty-dirs --no-resave-data msqrob2 StartedAt: 2025-02-09 17:38:35 -0500 (Sun, 09 Feb 2025) EndedAt: 2025-02-09 17:39:37 -0500 (Sun, 09 Feb 2025) EllapsedTime: 62.7 seconds RetCode: 1 Status: ERROR PackageFile: None PackageFileSize: NA