Package: msqrob2 Version: 1.15.0 Command: /Library/Frameworks/R.framework/Resources/bin/R CMD INSTALL msqrob2 StartedAt: 2025-02-09 15:26:57 -0500 (Sun, 09 Feb 2025) EndedAt: 2025-02-09 15:27:39 -0500 (Sun, 09 Feb 2025) EllapsedTime: 42.6 seconds RetCode: 0 Status: OK