Package: msqrob2 Version: 1.15.0 Command: /home/biocbuild/bbs-3.21-bioc/R/bin/R CMD build --keep-empty-dirs --no-resave-data msqrob2 StartedAt: 2025-02-09 18:18:53 -0500 (Sun, 09 Feb 2025) EndedAt: 2025-02-09 18:19:35 -0500 (Sun, 09 Feb 2025) EllapsedTime: 42.1 seconds RetCode: 1 Status: ERROR PackageFile: None PackageFileSize: NA