Package: msqrob2 Version: 1.15.0 Command: /home/biocbuild/bbs-3.21-bioc/R/bin/R CMD check --install=check:msqrob2.install-out.txt --library=/home/biocbuild/bbs-3.21-bioc/R/site-library --timings msqrob2_1.15.0.tar.gz StartedAt: 2025-02-06 00:35:42 -0500 (Thu, 06 Feb 2025) EndedAt: 2025-02-06 00:41:30 -0500 (Thu, 06 Feb 2025) EllapsedTime: 348.4 seconds RetCode: 0 Status: OK CheckDir: msqrob2.Rcheck Warnings: 0