Package: msqrob2 Version: 1.15.0 Command: /home/biocbuild/bbs-3.21-bioc/R/bin/R CMD INSTALL msqrob2 StartedAt: 2025-02-09 15:34:19 -0500 (Sun, 09 Feb 2025) EndedAt: 2025-02-09 15:34:49 -0500 (Sun, 09 Feb 2025) EllapsedTime: 30.5 seconds RetCode: 0 Status: OK