Package: msqrob2 Version: 1.15.0 Command: chmod a+r msqrob2 -R && E:\biocbuild\bbs-3.21-bioc\R\bin\R.exe CMD build --keep-empty-dirs --no-resave-data msqrob2 StartedAt: 2025-02-03 20:21:55 -0500 (Mon, 03 Feb 2025) EndedAt: 2025-02-03 20:24:55 -0500 (Mon, 03 Feb 2025) EllapsedTime: 179.7 seconds RetCode: 0 Status: OK PackageFile: msqrob2_1.15.0.tar.gz PackageFileSize: 1.042 MiB