Package: multiGSEA Version: 1.17.3 Command: /Library/Frameworks/R.framework/Resources/bin/R CMD check --install=check:multiGSEA.install-out.txt --library=/Library/Frameworks/R.framework/Resources/library --no-vignettes --timings multiGSEA_1.17.3.tar.gz StartedAt: 2025-02-12 20:26:03 -0500 (Wed, 12 Feb 2025) EndedAt: 2025-02-12 20:30:04 -0500 (Wed, 12 Feb 2025) EllapsedTime: 241.2 seconds RetCode: 0 Status: OK CheckDir: multiGSEA.Rcheck Warnings: 0