Package: multiGSEA Version: 1.17.3 Command: chmod a+r multiGSEA -R && E:\biocbuild\bbs-3.21-bioc\R\bin\R.exe CMD build --keep-empty-dirs --no-resave-data multiGSEA StartedAt: 2025-02-09 20:12:48 -0500 (Sun, 09 Feb 2025) EndedAt: 2025-02-09 20:34:27 -0500 (Sun, 09 Feb 2025) EllapsedTime: 1299.7 seconds RetCode: 0 Status: OK PackageFile: multiGSEA_1.17.3.tar.gz PackageFileSize: 953 KiB