Package: multiHiCcompare Version: 1.25.0 Maintainer: Mikhail Dozmorov MaintainerEmail: mikhail.dozmorov at gmail.com git_url: https://git.bioconductor.org/packages/multiHiCcompare git_branch: devel git_last_commit: 62d7e43 git_last_commit_date: 2024-10-29 10:30:33 -0500 (Tue, 29 Oct 2024)