Package: multiHiCcompare Version: 1.25.0 Command: /Library/Frameworks/R.framework/Resources/bin/R CMD check --install=check:multiHiCcompare.install-out.txt --library=/Library/Frameworks/R.framework/Resources/library --no-vignettes --timings multiHiCcompare_1.25.0.tar.gz StartedAt: 2025-02-12 20:26:03 -0500 (Wed, 12 Feb 2025) EndedAt: 2025-02-12 20:27:34 -0500 (Wed, 12 Feb 2025) EllapsedTime: 91.1 seconds RetCode: 0 Status: OK CheckDir: multiHiCcompare.Rcheck Warnings: 0