Package: multiHiCcompare Version: 1.25.0 Command: /home/biocbuild/R/R/bin/R CMD build --keep-empty-dirs --no-resave-data multiHiCcompare StartedAt: 2025-01-29 00:44:24 -0000 (Wed, 29 Jan 2025) EndedAt: 2025-01-29 00:45:50 -0000 (Wed, 29 Jan 2025) EllapsedTime: 86.0 seconds RetCode: 0 Status: OK PackageFile: multiHiCcompare_1.25.0.tar.gz PackageFileSize: 4.435 MiB