Package: multiHiCcompare Version: 1.25.0 Command: rm -rf multiHiCcompare.buildbin-libdir && mkdir multiHiCcompare.buildbin-libdir && /Users/biocbuild/BBS/utils/build-universal.sh multiHiCcompare_1.25.0.tar.gz /Library/Frameworks/R.framework/Resources/bin/R multiHiCcompare.buildbin-libdir StartedAt: 2025-02-13 00:47:55 -0500 (Thu, 13 Feb 2025) EndedAt: 2025-02-13 00:48:38 -0500 (Thu, 13 Feb 2025) EllapsedTime: 42.6 seconds RetCode: 0 Status: OK PackageFile: multiHiCcompare_1.25.0.tgz PackageFileSize: 5.334 MiB