Package: multiHiCcompare Version: 1.25.0 Command: /Library/Frameworks/R.framework/Resources/bin/R CMD build --keep-empty-dirs --no-resave-data multiHiCcompare StartedAt: 2025-02-12 17:34:52 -0500 (Wed, 12 Feb 2025) EndedAt: 2025-02-12 17:36:15 -0500 (Wed, 12 Feb 2025) EllapsedTime: 82.3 seconds RetCode: 0 Status: OK PackageFile: multiHiCcompare_1.25.0.tar.gz PackageFileSize: 4.723 MiB