Package: multiHiCcompare Version: 1.25.0 Command: /home/biocbuild/bbs-3.21-bioc/R/bin/R CMD build --keep-empty-dirs --no-resave-data multiHiCcompare StartedAt: 2025-02-09 18:20:48 -0500 (Sun, 09 Feb 2025) EndedAt: 2025-02-09 18:21:49 -0500 (Sun, 09 Feb 2025) EllapsedTime: 61.1 seconds RetCode: 0 Status: OK PackageFile: multiHiCcompare_1.25.0.tar.gz PackageFileSize: 4.737 MiB