Package: multiHiCcompare Version: 1.25.0 Command: rm -rf multiHiCcompare.buildbin-libdir && mkdir multiHiCcompare.buildbin-libdir && E:\biocbuild\bbs-3.21-bioc\R\bin\R.exe CMD INSTALL --build --library=multiHiCcompare.buildbin-libdir multiHiCcompare_1.25.0.tar.gz StartedAt: 2025-02-10 08:15:01 -0500 (Mon, 10 Feb 2025) EndedAt: 2025-02-10 08:16:17 -0500 (Mon, 10 Feb 2025) EllapsedTime: 75.6 seconds RetCode: 0 Status: OK PackageFile: multiHiCcompare_1.25.0.zip PackageFileSize: 5.101 MiB