Package: multiHiCcompare Version: 1.25.0 Command: E:\biocbuild\bbs-3.21-bioc\R\bin\R.exe CMD check --no-multiarch --install=check:multiHiCcompare.install-out.txt --library=E:\biocbuild\bbs-3.21-bioc\R\library --no-vignettes --timings multiHiCcompare_1.25.0.tar.gz StartedAt: 2025-02-10 03:26:25 -0500 (Mon, 10 Feb 2025) EndedAt: 2025-02-10 03:31:10 -0500 (Mon, 10 Feb 2025) EllapsedTime: 285.0 seconds RetCode: 0 Status: OK CheckDir: multiHiCcompare.Rcheck Warnings: 0