Package: multiMiR Version: 1.29.0 Command: rm -rf multiMiR.buildbin-libdir && mkdir multiMiR.buildbin-libdir && /Users/biocbuild/BBS/utils/build-universal.sh multiMiR_1.29.0.tar.gz /Library/Frameworks/R.framework/Resources/bin/R multiMiR.buildbin-libdir StartedAt: 2025-02-10 22:24:43 -0500 (Mon, 10 Feb 2025) EndedAt: 2025-02-10 22:24:50 -0500 (Mon, 10 Feb 2025) EllapsedTime: 7.1 seconds RetCode: 0 Status: OK PackageFile: multiMiR_1.29.0.tgz PackageFileSize: 635.3 KiB