Package: multiMiR Version: 1.29.0 Command: /Library/Frameworks/R.framework/Resources/bin/R CMD build --keep-empty-dirs --no-resave-data multiMiR StartedAt: 2025-02-10 17:04:27 -0500 (Mon, 10 Feb 2025) EndedAt: 2025-02-10 17:05:22 -0500 (Mon, 10 Feb 2025) EllapsedTime: 54.6 seconds RetCode: 0 Status: OK PackageFile: multiMiR_1.29.0.tar.gz PackageFileSize: 332.1 KiB