Package: multiMiR Version: 1.29.0 Command: /home/biocbuild/R/R/bin/R CMD build --keep-empty-dirs --no-resave-data multiMiR StartedAt: 2025-01-29 00:44:29 -0000 (Wed, 29 Jan 2025) EndedAt: 2025-01-29 00:46:29 -0000 (Wed, 29 Jan 2025) EllapsedTime: 120.1 seconds RetCode: 0 Status: OK PackageFile: multiMiR_1.29.0.tar.gz PackageFileSize: 400.7 KiB