Package: multiMiR Version: 1.29.0 Command: /home/biocbuild/R/R/bin/R CMD INSTALL multiMiR StartedAt: 2025-01-29 19:52:48 -0000 (Wed, 29 Jan 2025) EndedAt: 2025-01-29 19:53:11 -0000 (Wed, 29 Jan 2025) EllapsedTime: 22.8 seconds RetCode: 0 Status: OK