Package: multiMiR Version: 1.29.0 Command: rm -rf multiMiR.buildbin-libdir && mkdir multiMiR.buildbin-libdir && /Users/biocbuild/BBS/utils/build-universal.sh multiMiR_1.29.0.tar.gz /Library/Frameworks/R.framework/Resources/bin/R multiMiR.buildbin-libdir StartedAt: 2025-02-11 01:19:11 -0500 (Tue, 11 Feb 2025) EndedAt: 2025-02-11 01:19:38 -0500 (Tue, 11 Feb 2025) EllapsedTime: 26.7 seconds RetCode: 0 Status: OK PackageFile: multiMiR_1.29.0.tgz PackageFileSize: 632.7 KiB