Package: multiMiR Version: 1.29.0 Command: /Library/Frameworks/R.framework/Resources/bin/R CMD INSTALL multiMiR StartedAt: 2025-02-10 15:15:58 -0500 (Mon, 10 Feb 2025) EndedAt: 2025-02-10 15:16:26 -0500 (Mon, 10 Feb 2025) EllapsedTime: 28.4 seconds RetCode: 0 Status: OK