Package: multiMiR Version: 1.29.0 Command: /home/biocbuild/bbs-3.21-bioc/R/bin/R CMD build --keep-empty-dirs --no-resave-data multiMiR StartedAt: 2025-02-10 18:30:09 -0500 (Mon, 10 Feb 2025) EndedAt: 2025-02-10 18:31:24 -0500 (Mon, 10 Feb 2025) EllapsedTime: 75.1 seconds RetCode: 0 Status: OK PackageFile: multiMiR_1.29.0.tar.gz PackageFileSize: 332.6 KiB