Package: multiMiR Version: 1.29.0 Command: /home/biocbuild/bbs-3.21-bioc/R/bin/R CMD INSTALL multiMiR StartedAt: 2025-02-10 15:33:35 -0500 (Mon, 10 Feb 2025) EndedAt: 2025-02-10 15:33:51 -0500 (Mon, 10 Feb 2025) EllapsedTime: 16.0 seconds RetCode: 0 Status: OK