Package: multiMiR Version: 1.29.0 Command: E:\biocbuild\bbs-3.21-bioc\R\bin\R.exe CMD check --no-multiarch --install=check:multiMiR.install-out.txt --library=E:\biocbuild\bbs-3.21-bioc\R\library --no-vignettes --timings multiMiR_1.29.0.tar.gz StartedAt: 2025-02-11 03:39:40 -0500 (Tue, 11 Feb 2025) EndedAt: 2025-02-11 03:42:11 -0500 (Tue, 11 Feb 2025) EllapsedTime: 151.7 seconds RetCode: 0 Status: OK CheckDir: multiMiR.Rcheck Warnings: 0