Package: multiMiR Version: 1.29.0 Command: E:\biocbuild\bbs-3.21-bioc\R\bin\R.exe CMD INSTALL multiMiR StartedAt: 2025-02-10 16:07:52 -0500 (Mon, 10 Feb 2025) EndedAt: 2025-02-10 16:08:28 -0500 (Mon, 10 Feb 2025) EllapsedTime: 36.2 seconds RetCode: 0 Status: OK