Package: multiWGCNA Version: 1.5.0 Command: rm -rf multiWGCNA.buildbin-libdir && mkdir multiWGCNA.buildbin-libdir && /Users/biocbuild/BBS/utils/build-universal.sh multiWGCNA_1.5.0.tar.gz /Library/Frameworks/R.framework/Resources/bin/R multiWGCNA.buildbin-libdir StartedAt: 2025-02-05 22:27:57 -0500 (Wed, 05 Feb 2025) EndedAt: 2025-02-05 22:28:10 -0500 (Wed, 05 Feb 2025) EllapsedTime: 13.2 seconds RetCode: 0 Status: OK PackageFile: multiWGCNA_1.5.0.tgz PackageFileSize: 3.924 MiB