Package: multiWGCNA Version: 1.5.0 Command: /Library/Frameworks/R.framework/Resources/bin/R CMD build --keep-empty-dirs --no-resave-data multiWGCNA StartedAt: 2025-02-05 17:06:09 -0500 (Wed, 05 Feb 2025) EndedAt: 2025-02-05 17:07:56 -0500 (Wed, 05 Feb 2025) EllapsedTime: 107.2 seconds RetCode: 0 Status: OK PackageFile: multiWGCNA_1.5.0.tar.gz PackageFileSize: 3.569 MiB