Package: multiWGCNA Version: 1.5.0 Command: /Library/Frameworks/R.framework/Resources/bin/R CMD INSTALL multiWGCNA StartedAt: 2025-02-05 15:21:14 -0500 (Wed, 05 Feb 2025) EndedAt: 2025-02-05 15:21:26 -0500 (Wed, 05 Feb 2025) EllapsedTime: 11.9 seconds RetCode: 0 Status: OK