Package: multiWGCNA Version: 1.5.0 Command: /home/biocbuild/R/R/bin/R CMD build --keep-empty-dirs --no-resave-data multiWGCNA StartedAt: 2025-01-29 00:45:29 -0000 (Wed, 29 Jan 2025) EndedAt: 2025-01-29 00:51:25 -0000 (Wed, 29 Jan 2025) EllapsedTime: 356.2 seconds RetCode: 0 Status: OK PackageFile: multiWGCNA_1.5.0.tar.gz PackageFileSize: 1.943 MiB