Package: multiWGCNA Version: 1.5.0 Command: /home/biocbuild/R/R/bin/R CMD INSTALL multiWGCNA StartedAt: 2025-01-29 20:18:48 -0000 (Wed, 29 Jan 2025) EndedAt: 2025-01-29 20:19:32 -0000 (Wed, 29 Jan 2025) EllapsedTime: 44.1 seconds RetCode: 0 Status: OK