Package: multiWGCNA Version: 1.5.0 Command: /Library/Frameworks/R.framework/Resources/bin/R CMD build --keep-empty-dirs --no-resave-data multiWGCNA StartedAt: 2025-02-04 17:35:37 -0500 (Tue, 04 Feb 2025) EndedAt: 2025-02-04 17:40:56 -0500 (Tue, 04 Feb 2025) EllapsedTime: 319.4 seconds RetCode: 0 Status: OK PackageFile: multiWGCNA_1.5.0.tar.gz PackageFileSize: 3.579 MiB