Package: multiWGCNA Version: 1.5.0 Command: /Library/Frameworks/R.framework/Resources/bin/R CMD INSTALL multiWGCNA StartedAt: 2025-02-04 15:32:43 -0500 (Tue, 04 Feb 2025) EndedAt: 2025-02-04 15:33:25 -0500 (Tue, 04 Feb 2025) EllapsedTime: 41.4 seconds RetCode: 0 Status: OK