Package: multiWGCNA Version: 1.5.0 Command: /home/biocbuild/bbs-3.21-bioc/R/bin/R CMD check --install=check:multiWGCNA.install-out.txt --library=/home/biocbuild/bbs-3.21-bioc/R/site-library --timings multiWGCNA_1.5.0.tar.gz StartedAt: 2025-02-05 00:46:57 -0500 (Wed, 05 Feb 2025) EndedAt: 2025-02-05 01:00:37 -0500 (Wed, 05 Feb 2025) EllapsedTime: 820.3 seconds RetCode: 0 Status: OK CheckDir: multiWGCNA.Rcheck Warnings: 0