Package: multiWGCNA Version: 1.5.0 Command: rm -rf multiWGCNA.buildbin-libdir && mkdir multiWGCNA.buildbin-libdir && E:\biocbuild\bbs-3.21-bioc\R\bin\R.exe CMD INSTALL --build --library=multiWGCNA.buildbin-libdir multiWGCNA_1.5.0.tar.gz StartedAt: 2025-02-06 08:34:07 -0500 (Thu, 06 Feb 2025) EndedAt: 2025-02-06 08:35:00 -0500 (Thu, 06 Feb 2025) EllapsedTime: 53.1 seconds RetCode: 0 Status: OK PackageFile: multiWGCNA_1.5.0.zip PackageFileSize: 2.337 MiB