Package: multicrispr Version: 1.17.1 Command: /Library/Frameworks/R.framework/Resources/bin/R CMD INSTALL multicrispr StartedAt: 2025-02-12 15:27:24 -0500 (Wed, 12 Feb 2025) EndedAt: 2025-02-12 15:27:38 -0500 (Wed, 12 Feb 2025) EllapsedTime: 14.5 seconds RetCode: 0 Status: OK