Package: multicrispr Version: 1.17.1 Command: rm -rf multicrispr.buildbin-libdir && mkdir multicrispr.buildbin-libdir && E:\biocbuild\bbs-3.21-bioc\R\bin\R.exe CMD INSTALL --build --library=multicrispr.buildbin-libdir multicrispr_1.17.1.tar.gz StartedAt: 2025-02-10 08:14:54 -0500 (Mon, 10 Feb 2025) EndedAt: 2025-02-10 08:16:09 -0500 (Mon, 10 Feb 2025) EllapsedTime: 74.5 seconds RetCode: 0 Status: OK PackageFile: multicrispr_1.17.1.zip PackageFileSize: 2.135 MiB