Package: multicrispr Version: 1.17.1 Command: E:\biocbuild\bbs-3.21-bioc\R\bin\R.exe CMD check --no-multiarch --install=check:multicrispr.install-out.txt --library=E:\biocbuild\bbs-3.21-bioc\R\library --no-vignettes --timings multicrispr_1.17.1.tar.gz StartedAt: 2025-02-13 03:36:17 -0500 (Thu, 13 Feb 2025) EndedAt: 2025-02-13 03:44:06 -0500 (Thu, 13 Feb 2025) EllapsedTime: 469.2 seconds RetCode: 0 Status: OK CheckDir: multicrispr.Rcheck Warnings: 0