Package: multicrispr Version: 1.17.1 Command: E:\biocbuild\bbs-3.21-bioc\R\bin\R.exe CMD INSTALL multicrispr StartedAt: 2025-02-09 16:43:12 -0500 (Sun, 09 Feb 2025) EndedAt: 2025-02-09 16:44:20 -0500 (Sun, 09 Feb 2025) EllapsedTime: 67.2 seconds RetCode: 0 Status: OK