Package: multiscan Version: 1.67.0 Command: rm -rf multiscan.buildbin-libdir && mkdir multiscan.buildbin-libdir && /Users/biocbuild/BBS/utils/build-universal.sh multiscan_1.67.0.tar.gz /Library/Frameworks/R.framework/Resources/bin/R multiscan.buildbin-libdir StartedAt: 2025-02-09 22:22:59 -0500 (Sun, 09 Feb 2025) EndedAt: 2025-02-09 22:23:02 -0500 (Sun, 09 Feb 2025) EllapsedTime: 3.1 seconds RetCode: 0 Status: OK PackageFile: multiscan_1.67.0.tgz PackageFileSize: 778.6 KiB