Package: multiscan Version: 1.67.0 Command: /Library/Frameworks/R.framework/Resources/bin/R CMD check --install=check:multiscan.install-out.txt --library=/Library/Frameworks/R.framework/Resources/library --no-vignettes --timings multiscan_1.67.0.tar.gz StartedAt: 2025-02-09 20:21:48 -0500 (Sun, 09 Feb 2025) EndedAt: 2025-02-09 20:22:03 -0500 (Sun, 09 Feb 2025) EllapsedTime: 15.2 seconds RetCode: 0 Status: OK CheckDir: multiscan.Rcheck Warnings: 0