Package: multiscan Version: 1.67.0 Command: /home/biocbuild/bbs-3.21-bioc/R/bin/R CMD check --install=check:multiscan.install-out.txt --library=/home/biocbuild/bbs-3.21-bioc/R/site-library --timings multiscan_1.67.0.tar.gz StartedAt: 2025-02-10 00:39:07 -0500 (Mon, 10 Feb 2025) EndedAt: 2025-02-10 00:39:38 -0500 (Mon, 10 Feb 2025) EllapsedTime: 31.0 seconds RetCode: 0 Status: OK CheckDir: multiscan.Rcheck Warnings: 0