Package: multiscan Version: 1.67.0 Command: rm -rf multiscan.buildbin-libdir && mkdir multiscan.buildbin-libdir && E:\biocbuild\bbs-3.21-bioc\R\bin\R.exe CMD INSTALL --build --library=multiscan.buildbin-libdir multiscan_1.67.0.tar.gz StartedAt: 2025-02-10 08:15:10 -0500 (Mon, 10 Feb 2025) EndedAt: 2025-02-10 08:15:21 -0500 (Mon, 10 Feb 2025) EllapsedTime: 11.5 seconds RetCode: 0 Status: OK PackageFile: multiscan_1.67.0.zip PackageFileSize: 565.1 KiB